BEGIN:VCALENDAR
VERSION:2.0
PRODID:-//IndiaInEindhoven - ECPv6.15.13.1//NONSGML v1.0//EN
CALSCALE:GREGORIAN
METHOD:PUBLISH
X-WR-CALNAME:IndiaInEindhoven
X-ORIGINAL-URL:https://indiaineindhoven.nl
X-WR-CALDESC:Events for IndiaInEindhoven
REFRESH-INTERVAL;VALUE=DURATION:PT1H
X-Robots-Tag:noindex
X-PUBLISHED-TTL:PT1H
BEGIN:VTIMEZONE
TZID:UTC
BEGIN:STANDARD
TZOFFSETFROM:+0000
TZOFFSETTO:+0000
TZNAME:UTC
DTSTART:20250101T000000
END:STANDARD
END:VTIMEZONE
BEGIN:VEVENT
DTSTART;TZID=UTC:20260426T190000
DTEND;TZID=UTC:20260426T220000
DTSTAMP:20260420T203135
CREATED:20260420T182806Z
LAST-MODIFIED:20260420T183222Z
UID:10751-1777230000-1777240800@indiaineindhoven.nl
SUMMARY:Samay Raina - Live in Amsterdam
DESCRIPTION:Lohri & Pongal 2025This Entrepreneurs Meetup offers a vibrant networking opportunity for ambitious professionals to connect\, share insights\, and explore potential collaborations. Join fellow innovators  January 14\, 2025  								\n				\n				\n		\n				\n				\n									 								\n				\n				\n				\n									 								\n				\n				\n				\n		\n					\n		\n				\n				\n									This Entrepreneurs Meetup offers a vibrant networking opportunity for ambitious professionals to connect\, share insights\, and explore potential collaborations. Join fellow innovators for an inspiring event designed to foster business growth and meaningful connections. 								\n				\n				\n				\n									The event details are sourced from the official websites and social media pages of the respective communities to ensure authenticity and accurate representation of their activities. 								\n				\n				\n				\n					Past Events Photos				\n				\n				\n				\n							\n			\n			\n				\n			\n			\n				\n			\n		\n		\n						\n				\n				\n		\n		\n				\n				\n					Location				\n				\n				\n				\n					\n				\n		\n					\n				\n				\n									If you are the official organizer of this event\, please email your pictures and relevant information to hoi@hoiindia.nl. \nAdditionally\, please take a moment to review our privacy policy to understand how we handle and protect your information.
URL:https://indiaineindhoven.nl/event/samay-raina-live-in-amsterdam/
LOCATION:Boom Chicago\, Rozengracht 117\, Amsterdam\, 1016 LV\, Netherlands
ATTACH;FMTTYPE=image/png:https://indiaineindhoven.nl/wp-content/uploads/2026/04/Samay-Raina-in-Amsterdam-2026-1.png
END:VEVENT
BEGIN:VEVENT
DTSTART;TZID=UTC:20260524T173000
DTEND;TZID=UTC:20260524T223000
DTSTAMP:20260420T203135
CREATED:20260408T065506Z
LAST-MODIFIED:20260408T070322Z
UID:10732-1779643800-1779661800@indiaineindhoven.nl
SUMMARY:JUBIN NAUTIYAL LIVE IN ROTTERDAM
DESCRIPTION:Lohri & Pongal 2025This Entrepreneurs Meetup offers a vibrant networking opportunity for ambitious professionals to connect\, share insights\, and explore potential collaborations. Join fellow innovators  January 14\, 2025  								\n				\n				\n		\n				\n				\n									 								\n				\n				\n				\n									 								\n				\n				\n				\n		\n					\n		\n				\n				\n									This Entrepreneurs Meetup offers a vibrant networking opportunity for ambitious professionals to connect\, share insights\, and explore potential collaborations. Join fellow innovators for an inspiring event designed to foster business growth and meaningful connections. 								\n				\n				\n				\n									The event details are sourced from the official websites and social media pages of the respective communities to ensure authenticity and accurate representation of their activities. 								\n				\n				\n				\n					Past Events Photos				\n				\n				\n				\n							\n			\n			\n				\n			\n			\n				\n			\n		\n		\n						\n				\n				\n		\n		\n				\n				\n					Location				\n				\n				\n				\n					\n				\n		\n					\n				\n				\n									If you are the official organizer of this event\, please email your pictures and relevant information to hoi@hoiindia.nl. \nAdditionally\, please take a moment to review our privacy policy to understand how we handle and protect your information.
URL:https://indiaineindhoven.nl/event/jubin-nautiyal-live-in-rotterdam/
LOCATION:Rotterdam Ahoy\, RTM Stage\, Ahoyweg 10\, Rotterdam\, 3084 BA\, Netherlands
ATTACH;FMTTYPE=image/png:https://indiaineindhoven.nl/wp-content/uploads/2026/04/Jubin-Nautiyal-Concert-2026.png
ORGANIZER;CN="CineWiz Productions":MAILTO:dk@cinewizproductions.com
END:VEVENT
BEGIN:VEVENT
DTSTART;TZID=UTC:20260530T190000
DTEND;TZID=UTC:20260530T210000
DTSTAMP:20260420T203135
CREATED:20260420T190716Z
LAST-MODIFIED:20260420T190716Z
UID:10760-1780167600-1780174800@indiaineindhoven.nl
SUMMARY:VARUN GROVER - Love\, Death & Ketchup - Live in EINDHOVEN
DESCRIPTION:Lohri & Pongal 2025This Entrepreneurs Meetup offers a vibrant networking opportunity for ambitious professionals to connect\, share insights\, and explore potential collaborations. Join fellow innovators  January 14\, 2025  								\n				\n				\n		\n				\n				\n									 								\n				\n				\n				\n									 								\n				\n				\n				\n		\n					\n		\n				\n				\n									This Entrepreneurs Meetup offers a vibrant networking opportunity for ambitious professionals to connect\, share insights\, and explore potential collaborations. Join fellow innovators for an inspiring event designed to foster business growth and meaningful connections. 								\n				\n				\n				\n									The event details are sourced from the official websites and social media pages of the respective communities to ensure authenticity and accurate representation of their activities. 								\n				\n				\n				\n					Past Events Photos				\n				\n				\n				\n							\n			\n			\n				\n			\n			\n				\n			\n		\n		\n						\n				\n				\n		\n		\n				\n				\n					Location				\n				\n				\n				\n					\n				\n		\n					\n				\n				\n									If you are the official organizer of this event\, please email your pictures and relevant information to hoi@hoiindia.nl. \nAdditionally\, please take a moment to review our privacy policy to understand how we handle and protect your information.
URL:https://indiaineindhoven.nl/event/varun-grover-love-death-ketchup-live-in-eindhoven/
LOCATION:LAB-1\, 5611 GC Eindhoven\, Netherlands
ATTACH;FMTTYPE=image/png:https://indiaineindhoven.nl/wp-content/uploads/2026/04/Varun-Grover-May-2026.png
ORGANIZER;CN="Mic and Couch":MAILTO:info@micandcouch.com
END:VEVENT
BEGIN:VEVENT
DTSTART;TZID=UTC:20260627T150000
DTEND;TZID=UTC:20260627T210000
DTSTAMP:20260420T203135
CREATED:20260408T073158Z
LAST-MODIFIED:20260408T073158Z
UID:10741-1782572400-1782594000@indiaineindhoven.nl
SUMMARY:Miss Indian Beauty Pageant 2026
DESCRIPTION:Lohri & Pongal 2025This Entrepreneurs Meetup offers a vibrant networking opportunity for ambitious professionals to connect\, share insights\, and explore potential collaborations. Join fellow innovators  January 14\, 2025  								\n				\n				\n		\n				\n				\n									 								\n				\n				\n				\n									 								\n				\n				\n				\n		\n					\n		\n				\n				\n									This Entrepreneurs Meetup offers a vibrant networking opportunity for ambitious professionals to connect\, share insights\, and explore potential collaborations. Join fellow innovators for an inspiring event designed to foster business growth and meaningful connections. 								\n				\n				\n				\n									The event details are sourced from the official websites and social media pages of the respective communities to ensure authenticity and accurate representation of their activities. 								\n				\n				\n				\n					Past Events Photos				\n				\n				\n				\n							\n			\n			\n				\n			\n			\n				\n			\n		\n		\n						\n				\n				\n		\n		\n				\n				\n					Location				\n				\n				\n				\n					\n				\n		\n					\n				\n				\n									If you are the official organizer of this event\, please email your pictures and relevant information to hoi@hoiindia.nl. \nAdditionally\, please take a moment to review our privacy policy to understand how we handle and protect your information.
URL:https://indiaineindhoven.nl/event/miss-indian-beauty-pageant-2026/
LOCATION:Oostvaarders College\, A. Boekenweg 3\, Almere\, 1333 VD\, Netherlands
ATTACH;FMTTYPE=image/png:https://indiaineindhoven.nl/wp-content/uploads/2026/04/Beauty-Peagent.png
ORGANIZER;CN="MIBP":MAILTO:info@mibp.nl
END:VEVENT
BEGIN:VEVENT
DTSTART;TZID=UTC:20260801T190000
DTEND;TZID=UTC:20260801T210000
DTSTAMP:20260420T203135
CREATED:20260420T185848Z
LAST-MODIFIED:20260420T185848Z
UID:10756-1785610800-1785618000@indiaineindhoven.nl
SUMMARY:ABHISHEK UPMANYU - Toxic - Live in EINDHOVEN
DESCRIPTION:Lohri & Pongal 2025This Entrepreneurs Meetup offers a vibrant networking opportunity for ambitious professionals to connect\, share insights\, and explore potential collaborations. Join fellow innovators  January 14\, 2025  								\n				\n				\n		\n				\n				\n									 								\n				\n				\n				\n									 								\n				\n				\n				\n		\n					\n		\n				\n				\n									This Entrepreneurs Meetup offers a vibrant networking opportunity for ambitious professionals to connect\, share insights\, and explore potential collaborations. Join fellow innovators for an inspiring event designed to foster business growth and meaningful connections. 								\n				\n				\n				\n									The event details are sourced from the official websites and social media pages of the respective communities to ensure authenticity and accurate representation of their activities. 								\n				\n				\n				\n					Past Events Photos				\n				\n				\n				\n							\n			\n			\n				\n			\n			\n				\n			\n		\n		\n						\n				\n				\n		\n		\n				\n				\n					Location				\n				\n				\n				\n					\n				\n		\n					\n				\n				\n									If you are the official organizer of this event\, please email your pictures and relevant information to hoi@hoiindia.nl. \nAdditionally\, please take a moment to review our privacy policy to understand how we handle and protect your information.
URL:https://indiaineindhoven.nl/event/abhishek-upmanyu-toxic-live-in-eindhoven/
LOCATION:LAB-1\, 5611 GC Eindhoven\, Netherlands
ATTACH;FMTTYPE=image/png:https://indiaineindhoven.nl/wp-content/uploads/2026/04/Abhimanyu-Kaushik-July-2026.png
ORGANIZER;CN="Mic and Couch":MAILTO:info@micandcouch.com
END:VEVENT
BEGIN:VEVENT
DTSTART;TZID=UTC:20260831T120000
DTEND;TZID=UTC:20260831T180000
DTSTAMP:20260420T203135
CREATED:20260420T192320Z
LAST-MODIFIED:20260420T192320Z
UID:10763-1788177600-1788199200@indiaineindhoven.nl
SUMMARY:ICIN PlayFest 2026 – Brabant
DESCRIPTION:Lohri & Pongal 2025This Entrepreneurs Meetup offers a vibrant networking opportunity for ambitious professionals to connect\, share insights\, and explore potential collaborations. Join fellow innovators  January 14\, 2025  								\n				\n				\n		\n				\n				\n									 								\n				\n				\n				\n									 								\n				\n				\n				\n		\n					\n		\n				\n				\n									This Entrepreneurs Meetup offers a vibrant networking opportunity for ambitious professionals to connect\, share insights\, and explore potential collaborations. Join fellow innovators for an inspiring event designed to foster business growth and meaningful connections. 								\n				\n				\n				\n									The event details are sourced from the official websites and social media pages of the respective communities to ensure authenticity and accurate representation of their activities. 								\n				\n				\n				\n					Past Events Photos				\n				\n				\n				\n							\n			\n			\n				\n			\n			\n				\n			\n		\n		\n						\n				\n				\n		\n		\n				\n				\n					Location				\n				\n				\n				\n					\n				\n		\n					\n				\n				\n									If you are the official organizer of this event\, please email your pictures and relevant information to hoi@hoiindia.nl. \nAdditionally\, please take a moment to review our privacy policy to understand how we handle and protect your information.
URL:https://indiaineindhoven.nl/event/icin-playfest-2026-brabant/
LOCATION:Atalanta Sportcentrum\, Veldhoven\, De Dom 9\, 5508 GE Veldhoven\, Netherlands\, Atalanta Sportcentrum\, Veldhoven\, De Dom 9\, Veldhoven\, 5508 GE\, Netherlands
ATTACH;FMTTYPE=image/png:https://indiaineindhoven.nl/wp-content/uploads/2026/04/Family-Fun-Day-2026.png
END:VEVENT
END:VCALENDAR